BEGIN:VCALENDAR
VERSION:2.0
PRODID:icalendar-ruby
CALSCALE:GREGORIAN
BEGIN:VEVENT
DTSTAMP:20260423T194722Z
UID:27bc0287-24b1-4b9d-a5fb-0f79d8da6d3d
DTSTART;VALUE=DATE:20251009
DESCRIPTION:Property ID# 597468\, Locatoin: 8 Kent Terrace\, Wellington \, 
 Time: 2:00PM
SUMMARY:Auction for 
END:VEVENT
END:VCALENDAR
