BEGIN:VCALENDAR
VERSION:2.0
PRODID:icalendar-ruby
CALSCALE:GREGORIAN
BEGIN:VEVENT
DTSTAMP:20260423T194429Z
UID:72558531-35e9-4168-a0fb-61f8a967aaa2
DTSTART;VALUE=DATE:20251113
DESCRIPTION:Property ID# 599256\, Locatoin: 8 Kent Terrace\, Wellington (wi
 ll  not be sold prior)\, Time: 1:00PM
SUMMARY:Auction for 
END:VEVENT
END:VCALENDAR
