BEGIN:VCALENDAR
VERSION:2.0
PRODID:icalendar-ruby
CALSCALE:GREGORIAN
BEGIN:VEVENT
DTSTAMP:20260423T194714Z
UID:dc4b13bc-99e6-46a4-bed8-3a7d580f494b
DTSTART;VALUE=DATE:20251203
DESCRIPTION:Property ID# 600335\, Locatoin: 8 Kent Terrace\, Wellington (wi
 ll  not be sold prior)\, Time: 1:00PM
SUMMARY:Auction for 
END:VEVENT
END:VCALENDAR
