BEGIN:VCALENDAR
VERSION:2.0
PRODID:icalendar-ruby
CALSCALE:GREGORIAN
BEGIN:VEVENT
DTSTAMP:20260423T194714Z
UID:704964b1-2517-46ab-b391-05b0a83b8f5c
DTSTART;VALUE=DATE:20251210
DESCRIPTION:Property ID# 600338\, Locatoin: 8 Kent Terrace\, Wellington (wi
 ll  not be sold prior)\, Time: 12:00PM
SUMMARY:Auction for 
END:VEVENT
END:VCALENDAR
