BEGIN:VCALENDAR
VERSION:2.0
PRODID:icalendar-ruby
CALSCALE:GREGORIAN
BEGIN:VEVENT
DTSTAMP:20260423T194612Z
UID:4a5bf5d9-da3e-4878-83cb-2e9e04799313
DTSTART;VALUE=DATE:20260205
DESCRIPTION:Property ID# 601092\, Locatoin: 8 Kent Terrace\, Wellington (wi
 ll not be sold prior)\, Time: 12:00PM
SUMMARY:Auction for 
END:VEVENT
END:VCALENDAR
