BEGIN:VCALENDAR
VERSION:2.0
PRODID:icalendar-ruby
CALSCALE:GREGORIAN
BEGIN:VEVENT
DTSTAMP:20260423T105056Z
UID:604eef6c-910f-4c42-8876-4be8c5446e31
DTSTART;VALUE=DATE:20260320
DESCRIPTION:Property ID# 601230\, Locatoin: PGGWRE\, 12-14 Peace Street\, W
 hakatane\, Time: 4:00PM
SUMMARY:Auction for 165 Motu Road
END:VEVENT
END:VCALENDAR
