BEGIN:VCALENDAR
VERSION:2.0
PRODID:icalendar-ruby
CALSCALE:GREGORIAN
BEGIN:VEVENT
DTSTAMP:20260423T194133Z
UID:cd8e2b3d-5da2-4b6a-88a9-8cd74ba66afa
DTSTART;VALUE=DATE:20260129
DESCRIPTION:Property ID# 601313\, Locatoin: 8 Kent Terrace\, Wellington (wi
 ll not be sold prior)\, Time: 1:00PM
SUMMARY:Auction for 
END:VEVENT
END:VCALENDAR
