BEGIN:VCALENDAR
VERSION:2.0
PRODID:icalendar-ruby
CALSCALE:GREGORIAN
BEGIN:VEVENT
DTSTAMP:20260423T194408Z
UID:6e790a5b-6aec-4f19-b77a-ab59480757c0
DTSTART;VALUE=DATE:20260204
DESCRIPTION:Property ID# 601467\, Locatoin: 8 Kent Terrace\, Wellington (wi
 ll not be sold prior)\, Time: 12:00PM
SUMMARY:Auction for 
END:VEVENT
END:VCALENDAR
