BEGIN:VCALENDAR
VERSION:2.0
PRODID:icalendar-ruby
CALSCALE:GREGORIAN
BEGIN:VEVENT
DTSTAMP:20260425T101825Z
UID:8ffbbad8-e8e9-4743-8be4-31a8043b0c9d
DTSTART;TZID=Pacific/Auckland:20260426T121500
DTEND;TZID=Pacific/Auckland:20260426T130000
DESCRIPTION:Property ID# 605465
SUMMARY:Openhome for 18 KO PLACE
END:VEVENT
END:VCALENDAR
